BEGIN:VCALENDAR
VERSION:2.0
PRODID:-//wp-events-plugin.com//7.2.3.1//EN
BEGIN:VEVENT
UID:113@beatrix-becker.de
DTSTART:20180506T160000Z
DTEND:20180506T180000Z
DTSTAMP:20180421T061144Z
URL:https://beatrix-becker.de/termine/cello-crossing-guest-at-stefanie-joh
 n/
SUMMARY:Cello Crossing - zu Gast bei Stefanie John
DESCRIPTION:"Cello crossing!" ist ein Cellokonzert der außergewöhnlichen 
 Art. Die Berliner Cellistin Stefanie John spielt Musik\, die sie begeister
 t und berührt\, und verbindet dabei mit Leichtigkeit unterschiedliche mus
 ikalische Welten. Zum dritten Mal wird Stefanie John das Publikum in der W
 ABE in Prenzlauer Berg mit auf Entdeckungsreise nehmen. Die Gastmusiker si
 nd zwar größtenteils noch geheim\, aber mit Sicherheit kann man sich auf
  entspannende Improvisationen\, klassische Kleinode\, groovende Songs\, Fi
 lmmusik und mitreißende Tangos freuen.\n\nTICKETS\nIm VVK über www.stefa
 niejohn-cello.de/shop (Early bird 15 € ).\nAn der Abendkasse der WABE f
 ür 20€ /erm.17€ erhältlich.\nEine Reservierung über info@wabe-berli
 n.de oder 030-902953850 wird empfohlen.
LOCATION:Wabe\, Danziger Str. 101\, Berlin\, 10405\, Deutschland
GEO:52.537467;13.430763999999954
X-APPLE-STRUCTURED-LOCATION;VALUE=URI;X-ADDRESS=Danziger Str. 101\, Berlin\
 , 10405\, Deutschland;X-APPLE-RADIUS=100;X-TITLE=Wabe:geo:52.537467,13.430
 763999999954
END:VEVENT
END:VCALENDAR