BEGIN:VCALENDAR
VERSION:2.0
PRODID:-//wp-events-plugin.com//7.2.3.1//EN
BEGIN:VEVENT
UID:158@beatrix-becker.de
DTSTART:20190302T160000Z
DTEND:20190302T180000Z
DTSTAMP:20190211T102525Z
URL:https://beatrix-becker.de/termine/becker-doppscher-8/
SUMMARY:Becker | Doppscher
DESCRIPTION:Klezmer\, Tango\, Jazz und die Sehnsucht nach dem Mond \n\nFrei
  schwebende\, melancholische Klarinettenmelodien untermalt von tänzerisch
  perlender Gitarrenakrobatik: Das Duo Becker | Doppscher lotet das ganze S
 pektrum zwischen Klezmer\, Tango und Jazz aus. Hinzu kommt ihre Leidenscha
 ft für musikalische Mondreisen – vom eigens arrangierten „Der Mond is
 t aufgegangen“ über „Fly me to the Moon“ bis hin zur „Moonlight S
 erenade“. Mit Präsenz und Professionalität\, bekannten Stücken und ei
 genen Kompositionen verzaubern die beiden Berliner Musiker bei Konzerten\,
  offiziellen Empfängen und im privaten Rahmen.\n\nBeatrix Becker und Benj
 amin Doppscher kreieren Unterhaltungsmusik im besten Sinne: animierend\, l
 uftig leicht\, mit Gehalt und Virtuosität. Sie schwelgen in der humorvoll
 en Traurigkeit des Klezmer\, einer Musik\, die schon alles im Leben gesehe
 n hat – gnadenlos ehrlich und wunderschön menschlich\, verzeihend und h
 offnungsvoll. Hinzu mischen sie die Improvisationslust des Jazz und die sp
 ielerische Verruchtheit des Tango. Das Ergebnis ist musikalische Magie: Wi
 e beim Mond und den Gezeiten geht es ums Fließen\, ums Anziehen und wiede
 r Loslassen.\n\nhttp://myepk.de/becker-doppscher/
LOCATION:St. Georg Wendessen\, Kirchring\, Wolfenbüttel - Wendessen\, Deut
 schland
GEO:52.1550595;10.590908799999966
X-APPLE-STRUCTURED-LOCATION;VALUE=URI;X-ADDRESS=Kirchring\, Wolfenbüttel -
  Wendessen\, Deutschland;X-APPLE-RADIUS=100;X-TITLE=St. Georg Wendessen:ge
 o:52.1550595,10.590908799999966
END:VEVENT
END:VCALENDAR