BEGIN:VCALENDAR
VERSION:2.0
PRODID:-//wp-events-plugin.com//7.2.3.1//EN
BEGIN:VEVENT
UID:181@beatrix-becker.de
DTSTART:20201101T140000Z
DTEND:20201101T140000Z
DTSTAMP:20210612T132036Z
URL:https://beatrix-becker.de/termine/beatrix-becker-lucas-dorado/
SUMMARY:Beatrix Becker & Lucas Dorado
DESCRIPTION:Das Konzert wird auf 2021 verlegt.\n\n&nbsp\;\n\nBeatrix Becker
  und Lucas Dorado entwickeln im Zusammenspiel von (Bass-) Klarinette und V
 ibraphon einen fesselnden Klangkosmos. Gegenseitig bringen sich ihre Instr
 umente zum Leuchten\, lassen sich Raum\, verzahnen und verlieren sich in e
 inem Spiel aus Fantasie und Magie.\n\nIn diesem Tanz der Instrumente treff
 en Welten aufeinander\, die sich einmalig ergänzen und verstehen: So verw
 eben sich die Klarheit und Schönheit der Schweiz mit der Spielfreude und 
 Energie aus Buenos Aires und Berlin.\n\nSeelenvolle Klänge\, virtuos puls
 ierend\, satt und sensibel\, beflügeln die beiden klangmalerischen Geschi
 chtenerzähler sich zwischen den Grenzen von Jazz\, Klassik und Tango zu b
 egegnen.\n\nhttps://youtu.be/Rpvkr7Ea6x0\n\nDas Gemeinschaftshaus Schloss 
 Vichel versteht sich als Kultur- und Gemeinschaftshaus. Diese Bezeichnung 
 wird sowohl der historischen als auch der jetzigen Bestimmung gerecht. Die
  Gemeinschaft wird dabei ebenso gelebt wie die Kultur.\n\nDie regelmäßig
 en Veranstaltungen »Kaffee und Kultur« am jeweils 1. Sonntag im Monat so
 llen die Seele in vielfältiger Weise durch ein kulturelles Rahmenprogramm
  ansprechen.\n\nwww.schloss-vichel.de\n\nKonzertbeginn: 16 Uhr (ab 14 Uhr 
 gibt es Kaffee und selbstgebackenen Kuchen)
LOCATION:Schloss Vichel\, Dorfstr. 17\, Vichel\, 16845\, Deutschland
X-APPLE-STRUCTURED-LOCATION;VALUE=URI;X-ADDRESS=Dorfstr. 17\, Vichel\, 1684
 5\, Deutschland;X-APPLE-RADIUS=100;X-TITLE=Schloss Vichel:geo:0,0
END:VEVENT
END:VCALENDAR