BEGIN:VCALENDAR
VERSION:2.0
PRODID:-//wp-events-plugin.com//7.2.3.1//EN
BEGIN:VEVENT
UID:161@beatrix-becker.de
DTSTART:20200215T170000Z
DTEND:20200215T170000Z
DTSTAMP:20210612T132159Z
URL:https://beatrix-becker.de/termine/beatrix-becker-judith-brandenburg/
SUMMARY:Beatrix Becker & Judith Brandenburg
DESCRIPTION:Entdeckersalon\n\nWas beschäftigt die Leipziger Musikverlage? 
 Neues hören und darüber sprechen!\nGesprächskonzert zu den im Hofmeiste
 r Musikverlag erschienenen Kompositionen von Beatrix Becker\nBeatrix Becke
 r (Klarinette\, Bassklarinette)\nJudith Brandenburg (Klavier\, Bandoneon)\
 n\n-Charakterstücke\n-Clarinet Tales Vol. 1\n-Clarinet Tales Vol. 2
LOCATION:Schumann-Haus\, Inselstr. 18\, Leipzig\, 04103\, Deutschland
X-APPLE-STRUCTURED-LOCATION;VALUE=URI;X-ADDRESS=Inselstr. 18\, Leipzig\, 04
 103\, Deutschland;X-APPLE-RADIUS=100;X-TITLE=Schumann-Haus:geo:0,0
END:VEVENT
END:VCALENDAR