BEGIN:VCALENDAR
VERSION:2.0
PRODID:-//wp-events-plugin.com//7.2.3.1//EN
BEGIN:VEVENT
UID:150@beatrix-becker.de
DTSTART:20191114T180000Z
DTEND:20191114T180000Z
DTSTAMP:20210612T165215Z
URL:https://beatrix-becker.de/termine/beatrix-becker-friends-bridges-of-mu
 sic-2/
SUMMARY:Beatrix Becker & Friends
DESCRIPTION:Beatrix Becker - Bridges of Music\n\n„Musik ist die gemeinsam
 e Sprache der Menschheit“ - Henry Wadsworth Longfellow\n\nMusik erreicht
  Menschen\, wo Worte versagen. Sie kann Mauern einreißen und Brücken bau
 en\, Herzen öffnen und neuen Dialog anbahnen. Zwischen den Musikern unter
 einander und ihrem Publikum. Zwischen Angehörigen unterschiedlicher Kultu
 ren\, Religionen\, Geschlechter und gesellschaftlicher Schichten. Zwischen
  Menschen\, die im Gegenüber nur das bedrohlich Fremde sahen\, bis sie ge
 meinsam von Musik berührt wurden.\n\nMit ihrem Herzensprojekt Bridges of 
 Music trägt die Berliner Musikerin und Komponistin Beatrix Becker diesen 
 Gedanken in die Welt. Sie verbindet in ihren Werken so unterschiedliche St
 ilistiken wie Klezmer und Tango\, Jazz und Filmmusik. Geht auf die Suche n
 ach Klängen und Stimmungen\, in Buenos Aires und der Schweiz\, in Jerusal
 em und New York City. Und öffnet Begegnungsräume mit großartigen Musike
 rn (u.a. Giora Feidman\, Noah Hoffeld\, Cora Venus Lunny).\n\nJe weiter Be
 atrix Becker ihr künstlerischer Weg führte\, umso deutlicher wurde ihr\,
  wie einfach Musik unterschiedliche Menschen miteinander in Verbindung bri
 ngt. Auch und gerade in Zeiten\, in denen Verständigung nötiger scheint 
 denn je. Den Anstoß zu Bridges of Music gab ein Auslandskonzert in Istanb
 ul kurz vor dem Militärputsch im Sommer 2016. Seit diesem prägenden Erle
 bnis engagiert sich Becker bewusst für Verständigung mit Mitteln der Mus
 ik.\n\nBeatrix Becker: Flügel\, Klarinette\, Bassklarinette\, Komposition
 \nStefanie John: Violoncello\nBenjamin Doppscher: Gitarre\, E-Gitarre\n\nK
 arten: www.koelnticket.de
LOCATION:Medio.Rhein.Erft\, Konrad-Adenauer-Platz 1\, Bergheim\, 50126\, De
 utschland
GEO:50.9631333;6.781110500000068
X-APPLE-STRUCTURED-LOCATION;VALUE=URI;X-ADDRESS=Konrad-Adenauer-Platz 1\, B
 ergheim\, 50126\, Deutschland;X-APPLE-RADIUS=100;X-TITLE=Medio.Rhein.Erft:
 geo:50.9631333,6.781110500000068
END:VEVENT
END:VCALENDAR