BEGIN:VCALENDAR
VERSION:2.0
PRODID:-//wp-events-plugin.com//7.2.3.1//EN
BEGIN:VEVENT
UID:146@beatrix-becker.de
DTSTART:20190504T150000Z
DTEND:20190504T150000Z
DTSTAMP:20210612T165150Z
URL:https://beatrix-becker.de/termine/beatrix-becker-der-chor-luzern-bridg
 es-of-music-2/
SUMMARY:Beatrix Becker & Der Chor Luzern
DESCRIPTION:Bridges of Music\n\nMusik zwischen Krieg und Frieden - ein Zusa
 mmenspiel zwischen dem Chor Luzern\, unter Leitung von Daniela Portmann un
 d der Berliner Musikerin und Komponistin Beatrix Becker\n\nSamstag\, 6. Ap
 ril 2019\, 19:30 Uhr: Matthäuskirche Luzern\nSamstag\, 4. Mai 2019\, 17:0
 0 Uhr: Friedrichskirche Potsdam (Eintritt frei)\n\n\nMusik erreicht Mensch
 en\, wo Worte versagen. Sie kann Mauern einreißen und Brücken bauen\, He
 rzen öffnen und neuen Dialog anbahnen\, zwischen den Musikern untereinand
 er und ihrem Publikum\, zwischen Angehörigen unterschiedlicher Kulturen\,
  Religionen\, Geschlechter und gesellschaftlicher Schichten\, zwischen Men
 schen\, die im Gegenüber nur das bedrohlich Fremde sahen\, bis sie gemein
 sam von Musik berührt wurden.\n\nMit ihrem Herzensprojekt Bridges of Musi
 c trägt die Berliner Musikerin und Komponistin Beatrix Becker diesen Geda
 nken in die Welt. Sie verbindet in ihren Werken so unterschiedliche Stilis
 tiken wie Klezmer und Tango\, Jazz und Filmmusik. Geht auf die Suche nach 
 Klängen und Stimmungen\, in Buenos Aires und der Schweiz\, in Jerusalem u
 nd New York City und öffnet Begegnungsräume mit großartigen Musiker*inn
 en.\n\nDie Unterstützung der Städtepartnerschaft Potsdam Luzern ermögli
 cht in diesem Jahr den musikalischen Brückenbau. Nach intensiven Gespräc
 hen zwischen Daniela Portmann und Beatrix Becker kristallisierte sich das 
 Thema „Musik zwischen Krieg und Frieden“:\n\nBeatrix Becker spielt aus
  ihrem Klavier- und Klarinettenprogramm Eigenkompositionen\, die in Jerusa
 lem\, Istanbul\, Südamerika und Berlin entstanden. Auch komponierte sie d
 rei Stücke für den Chor Luzern\, der weitere Werke von Britten\, Jēkabs
 one oder MacMillan aufführt\, allesamt Komponist*innen\, die sich mit dem
  Thema Krieg auseinandergesetzt haben und ihre eigenen Gefühle der Empo
 ̈rung\, Angst\, Hoffnung und Zuversicht in ihren Werken zum Ausdruck brin
 gen.\n\nhttps://youtu.be/Nkzq2sBVEdU\n\nMITWIRKENDE\n\nDer Chor Luzern\n\n
 Daniela Portmann - Dirigentin\n\nBeatrix Becker - Komponistin\, Klavier\, 
 Bassklarinette\, Klarinette\n\nJonathan Faulhaber - Violoncello (in Luzern
 )\n\nStefanie John - Violoncello (in Berlin)\n\n&nbsp\;\n\nPROGRAMM\n\nDas
  detaillierte Konzertprogramm finden Sie auf der Website: www.derchorluzer
 n.ch\n\n&nbsp\;\n\nKONZERTDATEN\n\nSamstag\, 6. April 2019 | 19.30 Uhr Mat
 thäuskirche Luzern\nHertensteinstr. 30\, 6004 Luzern\, Tickets 30 CHF\n\
 nSamstag\, 4. Mai 2019 | 17.00 Uhr Friedrichskirche Potsdam/Babelsberg\nWe
 berplatz 1\, 14482 Potsdam\, Eintritt frei - Kollekte erbeten\n\n&nbsp\;\n
 \nGefördert durch die Landeshauptstadt Potsdam\n\n&nbsp\;
LOCATION:Friedrichskirche\, Weberplatz 1\, Potsdam\, 14482\, Deutschland
GEO:52.3940904;13.096574499999974
X-APPLE-STRUCTURED-LOCATION;VALUE=URI;X-ADDRESS=Weberplatz 1\, Potsdam\, 14
 482\, Deutschland;X-APPLE-RADIUS=100;X-TITLE=Friedrichskirche:geo:52.39409
 04,13.096574499999974
END:VEVENT
END:VCALENDAR